BEGIN:VCALENDAR
VERSION:2.0
PRODID:-// - ECPv6.15.20//NONSGML v1.0//EN
CALSCALE:GREGORIAN
METHOD:PUBLISH
X-ORIGINAL-URL:https://lundsspelfestival.se
X-WR-CALDESC:Händelser för 
REFRESH-INTERVAL;VALUE=DURATION:PT1H
X-Robots-Tag:noindex
X-PUBLISHED-TTL:PT1H
BEGIN:VTIMEZONE
TZID:Europe/Stockholm
BEGIN:DAYLIGHT
TZOFFSETFROM:+0100
TZOFFSETTO:+0200
TZNAME:CEST
DTSTART:20250330T010000
END:DAYLIGHT
BEGIN:STANDARD
TZOFFSETFROM:+0200
TZOFFSETTO:+0100
TZNAME:CET
DTSTART:20251026T010000
END:STANDARD
BEGIN:DAYLIGHT
TZOFFSETFROM:+0100
TZOFFSETTO:+0200
TZNAME:CEST
DTSTART:20260329T010000
END:DAYLIGHT
BEGIN:STANDARD
TZOFFSETFROM:+0200
TZOFFSETTO:+0100
TZNAME:CET
DTSTART:20261025T010000
END:STANDARD
BEGIN:DAYLIGHT
TZOFFSETFROM:+0100
TZOFFSETTO:+0200
TZNAME:CEST
DTSTART:20270328T010000
END:DAYLIGHT
BEGIN:STANDARD
TZOFFSETFROM:+0200
TZOFFSETTO:+0100
TZNAME:CET
DTSTART:20271031T010000
END:STANDARD
END:VTIMEZONE
BEGIN:VEVENT
DTSTART;TZID=Europe/Stockholm:20260420T180000
DTEND;TZID=Europe/Stockholm:20260420T220000
DTSTAMP:20260420T022828
CREATED:20251102T071053Z
LAST-MODIFIED:20251102T092412Z
UID:3377-1776708000-1776722400@lundsspelfestival.se
SUMMARY:Spelkväll på Grand 20/4
DESCRIPTION:Välkommen på spelkväll på Grand! Lunds Spelfestival intar Piratenfoajen och erbjuder en kväll med spel. \nBrädspelsbar\nTillsammans med föreningen DMF dukar vi upp med nya och gamla klassiker. Där finns något för alla\, oavsett ålder och förkunskaper.\nVi har ett bibliotek med spel men du är välkommen att ta med din egen favorit. Självklart har vi även personal på plats för att hjälpa dig att hitta rätt! \nFacebook-event
URL:https://lundsspelfestival.se/event/spelkvall-pa-grand-20-4/
LOCATION:Grand Hotel\, Lund\, Sweden
CATEGORIES:Spel på Grand
END:VEVENT
END:VCALENDAR